BEGIN:VCALENDAR
VERSION:2.0
PRODID:-//Second Rodeo - ECPv6.10.1.1//NONSGML v1.0//EN
CALSCALE:GREGORIAN
METHOD:PUBLISH
X-ORIGINAL-URL:https://secondrodeobrewing.com
X-WR-CALDESC:Events for Second Rodeo
REFRESH-INTERVAL;VALUE=DURATION:PT1H
X-Robots-Tag:noindex
X-PUBLISHED-TTL:PT1H
BEGIN:VTIMEZONE
TZID:UTC
BEGIN:STANDARD
TZOFFSETFROM:+0000
TZOFFSETTO:+0000
TZNAME:UTC
DTSTART:20260101T000000
END:STANDARD
END:VTIMEZONE
BEGIN:VEVENT
DTSTART;TZID=UTC:20260203T120000
DTEND;TZID=UTC:20260203T150000
DTSTAMP:20260425T113439
CREATED:20251215T180426Z
LAST-MODIFIED:20251226T160441Z
UID:10001229-1770120000-1770130800@secondrodeobrewing.com
SUMMARY:Kirk Holloway
DESCRIPTION:
URL:https://secondrodeobrewing.com/event/kirk-holloway-18/
LOCATION:Second Rodeo Brewing\, 122 E Exchange Ave\, Ft Worth\, TX\, 76164\, United States
CATEGORIES:Tunes
ATTACH;FMTTYPE=image/jpeg:https://secondrodeobrewing.com/wp-content/uploads/sites/2/2025/01/Kirk-Holloway-scaled.jpg
END:VEVENT
BEGIN:VEVENT
DTSTART;TZID=UTC:20260202T200000
DTEND;TZID=UTC:20260202T230000
DTSTAMP:20260425T113439
CREATED:20251215T180426Z
LAST-MODIFIED:20251226T160333Z
UID:10001228-1770062400-1770073200@secondrodeobrewing.com
SUMMARY:Seth Van Dover
DESCRIPTION:
URL:https://secondrodeobrewing.com/event/seth-van-dover-11/
LOCATION:Second Rodeo Brewing\, 122 E Exchange Ave\, Ft Worth\, TX\, 76164\, United States
CATEGORIES:Tunes
ATTACH;FMTTYPE=image/jpeg:https://secondrodeobrewing.com/wp-content/uploads/sites/2/2025/02/Seth-Van-Dover-3.jpg
END:VEVENT
BEGIN:VEVENT
DTSTART;TZID=UTC:20260202T160000
DTEND;TZID=UTC:20260202T190000
DTSTAMP:20260425T113439
CREATED:20251215T180420Z
LAST-MODIFIED:20251226T160230Z
UID:10001227-1770048000-1770058800@secondrodeobrewing.com
SUMMARY:Mike Randall
DESCRIPTION:
URL:https://secondrodeobrewing.com/event/mike-randall-7/
LOCATION:Second Rodeo Brewing\, 122 E Exchange Ave\, Ft Worth\, TX\, 76164\, United States
CATEGORIES:Tunes
ATTACH;FMTTYPE=image/jpeg:https://secondrodeobrewing.com/wp-content/uploads/sites/2/2024/11/MikeRandall.jpg
END:VEVENT
BEGIN:VEVENT
DTSTART;TZID=UTC:20260202T120000
DTEND;TZID=UTC:20260202T150000
DTSTAMP:20260425T113439
CREATED:20251215T180419Z
LAST-MODIFIED:20251226T160146Z
UID:10001226-1770033600-1770044400@secondrodeobrewing.com
SUMMARY:Devin Leigh
DESCRIPTION:
URL:https://secondrodeobrewing.com/event/devin-leigh-12/
LOCATION:Second Rodeo Brewing\, 122 E Exchange Ave\, Ft Worth\, TX\, 76164\, United States
CATEGORIES:Tunes
ATTACH;FMTTYPE=image/jpeg:https://secondrodeobrewing.com/wp-content/uploads/sites/2/2025/01/Devin-Leigh.jpg
END:VEVENT
BEGIN:VEVENT
DTSTART;TZID=UTC:20260201T200000
DTEND;TZID=UTC:20260201T230000
DTSTAMP:20260425T113439
CREATED:20251215T180419Z
LAST-MODIFIED:20251226T160040Z
UID:10001225-1769976000-1769986800@secondrodeobrewing.com
SUMMARY:Justin Myers
DESCRIPTION:
URL:https://secondrodeobrewing.com/event/justin-myers-8/
LOCATION:Second Rodeo Brewing\, 122 E Exchange Ave\, Ft Worth\, TX\, 76164\, United States
CATEGORIES:Tunes
ATTACH;FMTTYPE=image/jpeg:https://secondrodeobrewing.com/wp-content/uploads/sites/2/2025/07/JustinMyers1.jpg
END:VEVENT
BEGIN:VEVENT
DTSTART;TZID=UTC:20260201T160000
DTEND;TZID=UTC:20260201T190000
DTSTAMP:20260425T113439
CREATED:20251215T180419Z
LAST-MODIFIED:20251226T155935Z
UID:10001224-1769961600-1769972400@secondrodeobrewing.com
SUMMARY:William Dunhill
DESCRIPTION:
URL:https://secondrodeobrewing.com/event/william-dunhill-2/
LOCATION:Second Rodeo Brewing\, 122 E Exchange Ave\, Ft Worth\, TX\, 76164\, United States
CATEGORIES:Tunes
ATTACH;FMTTYPE=image/jpeg:https://secondrodeobrewing.com/wp-content/uploads/sites/2/2025/11/Wlliam-Dunhill-2.jpg
END:VEVENT
BEGIN:VEVENT
DTSTART;TZID=UTC:20260201T120000
DTEND;TZID=UTC:20260201T150000
DTSTAMP:20260425T113439
CREATED:20251215T180418Z
LAST-MODIFIED:20251226T155827Z
UID:10001223-1769947200-1769958000@secondrodeobrewing.com
SUMMARY:Dylan Shelley
DESCRIPTION:
URL:https://secondrodeobrewing.com/event/dylan-shelley-2/
LOCATION:Second Rodeo Brewing\, 122 E Exchange Ave\, Ft Worth\, TX\, 76164\, United States
CATEGORIES:Tunes
ATTACH;FMTTYPE=image/jpeg:https://secondrodeobrewing.com/wp-content/uploads/sites/2/2025/11/Dylan-Shelley-1.jpg
END:VEVENT
BEGIN:VEVENT
DTSTART;TZID=UTC:20260131T213000
DTEND;TZID=UTC:20260131T213000
DTSTAMP:20260425T113439
CREATED:20251124T191242Z
LAST-MODIFIED:20251206T205654Z
UID:10001222-1769895000-1769895000@secondrodeobrewing.com
SUMMARY:Kyle Redd
DESCRIPTION:
URL:https://secondrodeobrewing.com/event/kyle-redd-6/
LOCATION:Second Rodeo Brewing\, 122 E Exchange Ave\, Ft Worth\, TX\, 76164\, United States
CATEGORIES:Tunes
ATTACH;FMTTYPE=image/jpeg:https://secondrodeobrewing.com/wp-content/uploads/sites/2/2024/11/Kyle-Redd-2.jpeg
END:VEVENT
BEGIN:VEVENT
DTSTART;TZID=UTC:20260131T173000
DTEND;TZID=UTC:20260131T203000
DTSTAMP:20260425T113439
CREATED:20251124T191241Z
LAST-MODIFIED:20251206T205543Z
UID:10001221-1769880600-1769891400@secondrodeobrewing.com
SUMMARY:Wade Hatton
DESCRIPTION:
URL:https://secondrodeobrewing.com/event/wade-hatton-8/
LOCATION:Second Rodeo Brewing\, 122 E Exchange Ave\, Ft Worth\, TX\, 76164\, United States
CATEGORIES:Tunes
ATTACH;FMTTYPE=image/jpeg:https://secondrodeobrewing.com/wp-content/uploads/sites/2/2025/02/Wade-Hatton-scaled.jpeg
END:VEVENT
BEGIN:VEVENT
DTSTART;TZID=UTC:20260131T133000
DTEND;TZID=UTC:20260131T163000
DTSTAMP:20260425T113439
CREATED:20251124T191241Z
LAST-MODIFIED:20251206T205450Z
UID:10001220-1769866200-1769877000@secondrodeobrewing.com
SUMMARY:Taylor Lewis
DESCRIPTION:
URL:https://secondrodeobrewing.com/event/taylor-lewis-6/
LOCATION:Second Rodeo Brewing\, 122 E Exchange Ave\, Ft Worth\, TX\, 76164\, United States
CATEGORIES:Tunes
ATTACH;FMTTYPE=image/jpeg:https://secondrodeobrewing.com/wp-content/uploads/sites/2/2025/01/Taylor-Lewis.jpeg
END:VEVENT
BEGIN:VEVENT
DTSTART;TZID=UTC:20260130T213000
DTEND;TZID=UTC:20260130T213000
DTSTAMP:20260425T113439
CREATED:20251124T191109Z
LAST-MODIFIED:20251206T205404Z
UID:10001219-1769808600-1769808600@secondrodeobrewing.com
SUMMARY:Jonathon Wallace
DESCRIPTION:
URL:https://secondrodeobrewing.com/event/jonathon-wallace-10/
LOCATION:Second Rodeo Brewing\, 122 E Exchange Ave\, Ft Worth\, TX\, 76164\, United States
CATEGORIES:Tunes
ATTACH;FMTTYPE=image/jpeg:https://secondrodeobrewing.com/wp-content/uploads/sites/2/2025/07/Jonathan-Wallace.jpeg
END:VEVENT
BEGIN:VEVENT
DTSTART;TZID=UTC:20260130T173000
DTEND;TZID=UTC:20260130T203000
DTSTAMP:20260425T113439
CREATED:20251124T191108Z
LAST-MODIFIED:20251206T205154Z
UID:10001218-1769794200-1769805000@secondrodeobrewing.com
SUMMARY:Troublesome Country
DESCRIPTION:
URL:https://secondrodeobrewing.com/event/troublesome-country-7/
LOCATION:Second Rodeo Brewing\, 122 E Exchange Ave\, Ft Worth\, TX\, 76164\, United States
CATEGORIES:Tunes
ATTACH;FMTTYPE=image/jpeg:https://secondrodeobrewing.com/wp-content/uploads/sites/2/2025/01/TroublesomeCounty2.jpg
END:VEVENT
BEGIN:VEVENT
DTSTART;TZID=UTC:20260130T133000
DTEND;TZID=UTC:20260130T163000
DTSTAMP:20260425T113439
CREATED:20251124T191108Z
LAST-MODIFIED:20251206T205048Z
UID:10001217-1769779800-1769790600@secondrodeobrewing.com
SUMMARY:Trey Moran
DESCRIPTION:
URL:https://secondrodeobrewing.com/event/trey-moran-9/
LOCATION:Second Rodeo Brewing\, 122 E Exchange Ave\, Ft Worth\, TX\, 76164\, United States
CATEGORIES:Tunes
ATTACH;FMTTYPE=image/jpeg:https://secondrodeobrewing.com/wp-content/uploads/sites/2/2025/01/Trey-Moran.jpg
END:VEVENT
BEGIN:VEVENT
DTSTART;TZID=UTC:20260129T200000
DTEND;TZID=UTC:20260129T230000
DTSTAMP:20260425T113439
CREATED:20251124T191108Z
LAST-MODIFIED:20251206T204849Z
UID:10001216-1769716800-1769727600@secondrodeobrewing.com
SUMMARY:Jon Griffin
DESCRIPTION:
URL:https://secondrodeobrewing.com/event/jon-griffan/
LOCATION:Second Rodeo Brewing\, 122 E Exchange Ave\, Ft Worth\, TX\, 76164\, United States
CATEGORIES:Tunes
ATTACH;FMTTYPE=image/jpeg:https://secondrodeobrewing.com/wp-content/uploads/sites/2/2025/07/Jon-Griffin.jpeg
END:VEVENT
BEGIN:VEVENT
DTSTART;TZID=UTC:20260129T160000
DTEND;TZID=UTC:20260129T190000
DTSTAMP:20260425T113439
CREATED:20251124T191107Z
LAST-MODIFIED:20251206T204641Z
UID:10001215-1769702400-1769713200@secondrodeobrewing.com
SUMMARY:Justin M. Collins
DESCRIPTION:
URL:https://secondrodeobrewing.com/event/justin-m-collins-14/
LOCATION:Second Rodeo Brewing\, 122 E Exchange Ave\, Ft Worth\, TX\, 76164\, United States
CATEGORIES:Tunes
ATTACH;FMTTYPE=image/jpeg:https://secondrodeobrewing.com/wp-content/uploads/sites/2/2025/02/Justin-M-Collins.jpg
END:VEVENT
BEGIN:VEVENT
DTSTART;TZID=UTC:20260129T120000
DTEND;TZID=UTC:20260129T150000
DTSTAMP:20260425T113439
CREATED:20251124T190909Z
LAST-MODIFIED:20251206T203822Z
UID:10001214-1769688000-1769698800@secondrodeobrewing.com
SUMMARY:Ralyn Gayle
DESCRIPTION:
URL:https://secondrodeobrewing.com/event/ralyn-gayle-9/
LOCATION:Second Rodeo Brewing\, 122 E Exchange Ave\, Ft Worth\, TX\, 76164\, United States
CATEGORIES:Tunes
ATTACH;FMTTYPE=image/jpeg:https://secondrodeobrewing.com/wp-content/uploads/sites/2/2025/01/Ralyn-Gayle-3.jpg
END:VEVENT
BEGIN:VEVENT
DTSTART;TZID=UTC:20260128T200000
DTEND;TZID=UTC:20260128T230000
DTSTAMP:20260425T113439
CREATED:20251124T190909Z
LAST-MODIFIED:20251206T203719Z
UID:10001213-1769630400-1769641200@secondrodeobrewing.com
SUMMARY:Rob Redwine
DESCRIPTION:
URL:https://secondrodeobrewing.com/event/rob-redwine-10/
LOCATION:Second Rodeo Brewing\, 122 E Exchange Ave\, Ft Worth\, TX\, 76164\, United States
CATEGORIES:Tunes
ATTACH;FMTTYPE=image/png:https://secondrodeobrewing.com/wp-content/uploads/sites/2/2025/01/rob-redwine.png
END:VEVENT
BEGIN:VEVENT
DTSTART;TZID=UTC:20260128T160000
DTEND;TZID=UTC:20260128T190000
DTSTAMP:20260425T113439
CREATED:20251124T190908Z
LAST-MODIFIED:20251206T203422Z
UID:10001212-1769616000-1769626800@secondrodeobrewing.com
SUMMARY:Taylor Ochs
DESCRIPTION:
URL:https://secondrodeobrewing.com/event/taylor-ochs-10/
LOCATION:Second Rodeo Brewing\, 122 E Exchange Ave\, Ft Worth\, TX\, 76164\, United States
CATEGORIES:Tunes
ATTACH;FMTTYPE=image/jpeg:https://secondrodeobrewing.com/wp-content/uploads/sites/2/2025/04/Taylor-Ochs-2.jpg
END:VEVENT
BEGIN:VEVENT
DTSTART;TZID=UTC:20260128T120000
DTEND;TZID=UTC:20260128T150000
DTSTAMP:20260425T113439
CREATED:20251124T190908Z
LAST-MODIFIED:20251206T203253Z
UID:10001211-1769601600-1769612400@secondrodeobrewing.com
SUMMARY:Lisa Smith
DESCRIPTION:
URL:https://secondrodeobrewing.com/event/lisa-smith-11/
LOCATION:Second Rodeo Brewing\, 122 E Exchange Ave\, Ft Worth\, TX\, 76164\, United States
CATEGORIES:Tunes
ATTACH;FMTTYPE=image/jpeg:https://secondrodeobrewing.com/wp-content/uploads/sites/2/2025/02/Lisa-Smith.jpg
END:VEVENT
BEGIN:VEVENT
DTSTART;TZID=UTC:20260127T200000
DTEND;TZID=UTC:20260127T230000
DTSTAMP:20260425T113439
CREATED:20251124T190908Z
LAST-MODIFIED:20260110T200324Z
UID:10001210-1769544000-1769554800@secondrodeobrewing.com
SUMMARY:Andrew Plank
DESCRIPTION:
URL:https://secondrodeobrewing.com/event/hayzen-hunter-11/
LOCATION:Second Rodeo Brewing\, 122 E Exchange Ave\, Ft Worth\, TX\, 76164\, United States
CATEGORIES:Tunes
ATTACH;FMTTYPE=image/jpeg:https://secondrodeobrewing.com/wp-content/uploads/sites/2/2025/09/Andrew-Plank-2.jpg
END:VEVENT
BEGIN:VEVENT
DTSTART;TZID=UTC:20260127T160000
DTEND;TZID=UTC:20260127T190000
DTSTAMP:20260425T113439
CREATED:20251124T190707Z
LAST-MODIFIED:20260110T195904Z
UID:10001209-1769529600-1769540400@secondrodeobrewing.com
SUMMARY:None
DESCRIPTION:
URL:https://secondrodeobrewing.com/event/todd-stewart-6/
LOCATION:Second Rodeo Brewing\, 122 E Exchange Ave\, Ft Worth\, TX\, 76164\, United States
CATEGORIES:Tunes
ATTACH;FMTTYPE=image/png:https://secondrodeobrewing.com/wp-content/uploads/sites/2/2025/01/cropped-SR-Logo_blk_SIMPLIFIED-TEXT.png
END:VEVENT
BEGIN:VEVENT
DTSTART;TZID=UTC:20260127T120000
DTEND;TZID=UTC:20260127T150000
DTSTAMP:20260425T113439
CREATED:20251124T190707Z
LAST-MODIFIED:20251206T201336Z
UID:10001208-1769515200-1769526000@secondrodeobrewing.com
SUMMARY:David Cacy
DESCRIPTION:
URL:https://secondrodeobrewing.com/event/david-cacy-12/
LOCATION:Second Rodeo Brewing\, 122 E Exchange Ave\, Ft Worth\, TX\, 76164\, United States
CATEGORIES:Tunes
ATTACH;FMTTYPE=image/jpeg:https://secondrodeobrewing.com/wp-content/uploads/sites/2/2025/02/David-Cacy-scaled.jpeg
END:VEVENT
BEGIN:VEVENT
DTSTART;TZID=UTC:20260126T200000
DTEND;TZID=UTC:20260126T230000
DTSTAMP:20260425T113439
CREATED:20251124T190707Z
LAST-MODIFIED:20251206T201016Z
UID:10001207-1769457600-1769468400@secondrodeobrewing.com
SUMMARY:Logan Samford
DESCRIPTION:
URL:https://secondrodeobrewing.com/event/logan-samford-3/
LOCATION:Second Rodeo Brewing\, 122 E Exchange Ave\, Ft Worth\, TX\, 76164\, United States
CATEGORIES:Tunes
ATTACH;FMTTYPE=image/jpeg:https://secondrodeobrewing.com/wp-content/uploads/sites/2/2025/09/Logan-Samford-2-scaled.jpg
END:VEVENT
BEGIN:VEVENT
DTSTART;TZID=UTC:20260126T160000
DTEND;TZID=UTC:20260126T190000
DTSTAMP:20260425T113439
CREATED:20251124T190706Z
LAST-MODIFIED:20251206T200832Z
UID:10001206-1769443200-1769454000@secondrodeobrewing.com
SUMMARY:Brad Johns
DESCRIPTION:
URL:https://secondrodeobrewing.com/event/brad-johns-11/
LOCATION:Second Rodeo Brewing\, 122 E Exchange Ave\, Ft Worth\, TX\, 76164\, United States
CATEGORIES:Tunes
ATTACH;FMTTYPE=image/jpeg:https://secondrodeobrewing.com/wp-content/uploads/sites/2/2025/02/Brad-Johns.jpg
END:VEVENT
BEGIN:VEVENT
DTSTART;TZID=UTC:20260126T120000
DTEND;TZID=UTC:20260126T150000
DTSTAMP:20260425T113439
CREATED:20251124T190706Z
LAST-MODIFIED:20251206T200658Z
UID:10001205-1769428800-1769439600@secondrodeobrewing.com
SUMMARY:Ben Coleman
DESCRIPTION:
URL:https://secondrodeobrewing.com/event/ben-coleman-10/
LOCATION:Second Rodeo Brewing\, 122 E Exchange Ave\, Ft Worth\, TX\, 76164\, United States
CATEGORIES:Tunes
ATTACH;FMTTYPE=image/jpeg:https://secondrodeobrewing.com/wp-content/uploads/sites/2/2025/01/BenColeman2-scaled.jpeg
END:VEVENT
BEGIN:VEVENT
DTSTART;TZID=UTC:20260125T200000
DTEND;TZID=UTC:20260125T230000
DTSTAMP:20260425T113439
CREATED:20251124T190606Z
LAST-MODIFIED:20251206T191645Z
UID:10001204-1769371200-1769382000@secondrodeobrewing.com
SUMMARY:Shelby Ballenger
DESCRIPTION:
URL:https://secondrodeobrewing.com/event/shelby-ballenger-4/
LOCATION:Second Rodeo Brewing\, 122 E Exchange Ave\, Ft Worth\, TX\, 76164\, United States
CATEGORIES:Tunes
ATTACH;FMTTYPE=image/jpeg:https://secondrodeobrewing.com/wp-content/uploads/sites/2/2025/04/Shelby-Ballenger-1.jpg
END:VEVENT
BEGIN:VEVENT
DTSTART;TZID=UTC:20260125T160000
DTEND;TZID=UTC:20260125T190000
DTSTAMP:20260425T113439
CREATED:20251124T190606Z
LAST-MODIFIED:20251206T191521Z
UID:10001203-1769356800-1769367600@secondrodeobrewing.com
SUMMARY:Joseph Neville
DESCRIPTION:
URL:https://secondrodeobrewing.com/event/joseph-neville-5/
LOCATION:Second Rodeo Brewing\, 122 E Exchange Ave\, Ft Worth\, TX\, 76164\, United States
CATEGORIES:Tunes
ATTACH;FMTTYPE=image/jpeg:https://secondrodeobrewing.com/wp-content/uploads/sites/2/2025/08/Joseph-Neville.jpg
END:VEVENT
BEGIN:VEVENT
DTSTART;TZID=UTC:20260125T120000
DTEND;TZID=UTC:20260125T150000
DTSTAMP:20260425T113439
CREATED:20251124T190606Z
LAST-MODIFIED:20251206T191416Z
UID:10001202-1769342400-1769353200@secondrodeobrewing.com
SUMMARY:Cory Brooks
DESCRIPTION:
URL:https://secondrodeobrewing.com/event/cory-brooks-5/
LOCATION:Second Rodeo Brewing\, 122 E Exchange Ave\, Ft Worth\, TX\, 76164\, United States
CATEGORIES:Tunes
ATTACH;FMTTYPE=image/jpeg:https://secondrodeobrewing.com/wp-content/uploads/sites/2/2025/07/Cory-Brooks.jpeg
END:VEVENT
BEGIN:VEVENT
DTSTART;TZID=UTC:20260124T213000
DTEND;TZID=UTC:20260124T213000
DTSTAMP:20260425T113439
CREATED:20251124T190605Z
LAST-MODIFIED:20251206T191021Z
UID:10001201-1769290200-1769290200@secondrodeobrewing.com
SUMMARY:Alex Aguilar
DESCRIPTION:
URL:https://secondrodeobrewing.com/event/alex-aguilar-15/
LOCATION:Second Rodeo Brewing\, 122 E Exchange Ave\, Ft Worth\, TX\, 76164\, United States
CATEGORIES:Tunes
ATTACH;FMTTYPE=image/jpeg:https://secondrodeobrewing.com/wp-content/uploads/sites/2/2024/11/Alex-Aguilar-3.jpg
END:VEVENT
BEGIN:VEVENT
DTSTART;TZID=UTC:20260124T173000
DTEND;TZID=UTC:20260124T203000
DTSTAMP:20260425T113439
CREATED:20251124T190605Z
LAST-MODIFIED:20251208T173528Z
UID:10001200-1769275800-1769286600@secondrodeobrewing.com
SUMMARY:Nicholas Patrick
DESCRIPTION:
URL:https://secondrodeobrewing.com/event/nicholas-patrick/
LOCATION:Second Rodeo Brewing\, 122 E Exchange Ave\, Ft Worth\, TX\, 76164\, United States
CATEGORIES:Tunes
ATTACH;FMTTYPE=image/jpeg:https://secondrodeobrewing.com/wp-content/uploads/sites/2/2025/11/NicholasPatrick2.jpg
END:VEVENT
END:VCALENDAR