BEGIN:VCALENDAR
VERSION:2.0
PRODID:-//Second Rodeo - ECPv6.10.1.1//NONSGML v1.0//EN
CALSCALE:GREGORIAN
METHOD:PUBLISH
X-ORIGINAL-URL:https://secondrodeobrewing.com
X-WR-CALDESC:Events for Second Rodeo
REFRESH-INTERVAL;VALUE=DURATION:PT1H
X-Robots-Tag:noindex
X-PUBLISHED-TTL:PT1H
BEGIN:VTIMEZONE
TZID:UTC
BEGIN:STANDARD
TZOFFSETFROM:+0000
TZOFFSETTO:+0000
TZNAME:UTC
DTSTART:20260101T000000
END:STANDARD
END:VTIMEZONE
BEGIN:VEVENT
DTSTART;TZID=UTC:20260324T120000
DTEND;TZID=UTC:20260324T150000
DTSTAMP:20260423T181459
CREATED:20260131T192535Z
LAST-MODIFIED:20260204T193028Z
UID:10001376-1774353600-1774364400@secondrodeobrewing.com
SUMMARY:Lisa Smith
DESCRIPTION:
URL:https://secondrodeobrewing.com/event/lisa-smith-14/
LOCATION:Second Rodeo Brewing\, 122 E Exchange Ave\, Ft Worth\, TX\, 76164\, United States
CATEGORIES:Tunes
ATTACH;FMTTYPE=image/jpeg:https://secondrodeobrewing.com/wp-content/uploads/sites/2/2025/02/Lisa-Smith.jpg
END:VEVENT
BEGIN:VEVENT
DTSTART;TZID=UTC:20260323T200000
DTEND;TZID=UTC:20260323T230000
DTSTAMP:20260423T181459
CREATED:20260131T192535Z
LAST-MODIFIED:20260204T192832Z
UID:10001375-1774296000-1774306800@secondrodeobrewing.com
SUMMARY:Jason Steinsultz
DESCRIPTION:
URL:https://secondrodeobrewing.com/event/jason-steinsultz-8/
LOCATION:Second Rodeo Brewing\, 122 E Exchange Ave\, Ft Worth\, TX\, 76164\, United States
CATEGORIES:Tunes
ATTACH;FMTTYPE=image/jpeg:https://secondrodeobrewing.com/wp-content/uploads/sites/2/2025/07/JasonSteinsultz1.jpg
END:VEVENT
BEGIN:VEVENT
DTSTART;TZID=UTC:20260323T160000
DTEND;TZID=UTC:20260323T190000
DTSTAMP:20260423T181459
CREATED:20260131T192535Z
LAST-MODIFIED:20260204T192737Z
UID:10001374-1774281600-1774292400@secondrodeobrewing.com
SUMMARY:Logan Samford
DESCRIPTION:
URL:https://secondrodeobrewing.com/event/logan-samford-6/
LOCATION:Second Rodeo Brewing\, 122 E Exchange Ave\, Ft Worth\, TX\, 76164\, United States
CATEGORIES:Tunes
ATTACH;FMTTYPE=image/jpeg:https://secondrodeobrewing.com/wp-content/uploads/sites/2/2025/09/Logan-Samford-2-scaled.jpg
END:VEVENT
BEGIN:VEVENT
DTSTART;TZID=UTC:20260323T120000
DTEND;TZID=UTC:20260323T150000
DTSTAMP:20260423T181459
CREATED:20260131T192534Z
LAST-MODIFIED:20260204T192644Z
UID:10001373-1774267200-1774278000@secondrodeobrewing.com
SUMMARY:Mike Randall
DESCRIPTION:
URL:https://secondrodeobrewing.com/event/mike-randall-10/
LOCATION:Second Rodeo Brewing\, 122 E Exchange Ave\, Ft Worth\, TX\, 76164\, United States
CATEGORIES:Tunes
ATTACH;FMTTYPE=image/jpeg:https://secondrodeobrewing.com/wp-content/uploads/sites/2/2024/11/MikeRandall.jpg
END:VEVENT
BEGIN:VEVENT
DTSTART;TZID=UTC:20260322T200000
DTEND;TZID=UTC:20260322T230000
DTSTAMP:20260423T181459
CREATED:20260131T192534Z
LAST-MODIFIED:20260204T192554Z
UID:10001372-1774209600-1774220400@secondrodeobrewing.com
SUMMARY:Devin Leigh
DESCRIPTION:
URL:https://secondrodeobrewing.com/event/devin-leigh-15/
LOCATION:Second Rodeo Brewing\, 122 E Exchange Ave\, Ft Worth\, TX\, 76164\, United States
CATEGORIES:Tunes
ATTACH;FMTTYPE=image/jpeg:https://secondrodeobrewing.com/wp-content/uploads/sites/2/2025/01/Devin-Leigh.jpg
END:VEVENT
BEGIN:VEVENT
DTSTART;TZID=UTC:20260322T160000
DTEND;TZID=UTC:20260322T190000
DTSTAMP:20260423T181459
CREATED:20260131T192435Z
LAST-MODIFIED:20260204T192450Z
UID:10001371-1774195200-1774206000@secondrodeobrewing.com
SUMMARY:Joseph Neville
DESCRIPTION:
URL:https://secondrodeobrewing.com/event/joseph-neville-6/
LOCATION:Second Rodeo Brewing\, 122 E Exchange Ave\, Ft Worth\, TX\, 76164\, United States
CATEGORIES:Tunes
ATTACH;FMTTYPE=image/jpeg:https://secondrodeobrewing.com/wp-content/uploads/sites/2/2025/08/Joseph-Neville.jpg
END:VEVENT
BEGIN:VEVENT
DTSTART;TZID=UTC:20260322T120000
DTEND;TZID=UTC:20260322T150000
DTSTAMP:20260423T181459
CREATED:20260131T192435Z
LAST-MODIFIED:20260204T192246Z
UID:10001370-1774180800-1774191600@secondrodeobrewing.com
SUMMARY:Dylan Shelley
DESCRIPTION:
URL:https://secondrodeobrewing.com/event/dylan-shelley-4/
LOCATION:Second Rodeo Brewing\, 122 E Exchange Ave\, Ft Worth\, TX\, 76164\, United States
CATEGORIES:Tunes
ATTACH;FMTTYPE=image/jpeg:https://secondrodeobrewing.com/wp-content/uploads/sites/2/2025/11/Dylan-Shelley-1.jpg
END:VEVENT
BEGIN:VEVENT
DTSTART;TZID=UTC:20260321T213000
DTEND;TZID=UTC:20260321T213000
DTSTAMP:20260423T181459
CREATED:20260131T192435Z
LAST-MODIFIED:20260204T191734Z
UID:10001369-1774128600-1774128600@secondrodeobrewing.com
SUMMARY:Alex Aguilar
DESCRIPTION:
URL:https://secondrodeobrewing.com/event/alex-aguilar-17/
LOCATION:Second Rodeo Brewing\, 122 E Exchange Ave\, Ft Worth\, TX\, 76164\, United States
CATEGORIES:Tunes
ATTACH;FMTTYPE=image/jpeg:https://secondrodeobrewing.com/wp-content/uploads/sites/2/2024/11/Alex-Aguilar-3.jpg
END:VEVENT
BEGIN:VEVENT
DTSTART;TZID=UTC:20260321T173000
DTEND;TZID=UTC:20260321T203000
DTSTAMP:20260423T181459
CREATED:20260131T192434Z
LAST-MODIFIED:20260204T191607Z
UID:10001368-1774114200-1774125000@secondrodeobrewing.com
SUMMARY:Rodney Smith
DESCRIPTION:
URL:https://secondrodeobrewing.com/event/rodney-smith-5/
LOCATION:Second Rodeo Brewing\, 122 E Exchange Ave\, Ft Worth\, TX\, 76164\, United States
CATEGORIES:Tunes
ATTACH;FMTTYPE=image/jpeg:https://secondrodeobrewing.com/wp-content/uploads/sites/2/2025/07/Rodney-Smith.jpeg
END:VEVENT
BEGIN:VEVENT
DTSTART;TZID=UTC:20260321T133000
DTEND;TZID=UTC:20260321T163000
DTSTAMP:20260423T181459
CREATED:20260131T192434Z
LAST-MODIFIED:20260204T191427Z
UID:10001367-1774099800-1774110600@secondrodeobrewing.com
SUMMARY:Taylor Lewis
DESCRIPTION:
URL:https://secondrodeobrewing.com/event/taylor-lweis/
LOCATION:Second Rodeo Brewing\, 122 E Exchange Ave\, Ft Worth\, TX\, 76164\, United States
CATEGORIES:Tunes
ATTACH;FMTTYPE=image/jpeg:https://secondrodeobrewing.com/wp-content/uploads/sites/2/2025/01/Taylor-Lewis.jpeg
END:VEVENT
BEGIN:VEVENT
DTSTART;TZID=UTC:20260320T213000
DTEND;TZID=UTC:20260320T213000
DTSTAMP:20260423T181459
CREATED:20260131T192431Z
LAST-MODIFIED:20260204T191305Z
UID:10001366-1774042200-1774042200@secondrodeobrewing.com
SUMMARY:90 Proof
DESCRIPTION:
URL:https://secondrodeobrewing.com/event/90-proof/
LOCATION:Second Rodeo Brewing\, 122 E Exchange Ave\, Ft Worth\, TX\, 76164\, United States
CATEGORIES:Tunes
ATTACH;FMTTYPE=image/jpeg:https://secondrodeobrewing.com/wp-content/uploads/sites/2/2025/02/90-proof-eventbrite_90s-country.jpg
END:VEVENT
BEGIN:VEVENT
DTSTART;TZID=UTC:20260320T173000
DTEND;TZID=UTC:20260320T203000
DTSTAMP:20260423T181459
CREATED:20260131T192431Z
LAST-MODIFIED:20260204T191155Z
UID:10001365-1774027800-1774038600@secondrodeobrewing.com
SUMMARY:Joe Savage
DESCRIPTION:
URL:https://secondrodeobrewing.com/event/joe-savage-10/
LOCATION:Second Rodeo Brewing\, 122 E Exchange Ave\, Ft Worth\, TX\, 76164\, United States
CATEGORIES:Tunes
ATTACH;FMTTYPE=image/jpeg:https://secondrodeobrewing.com/wp-content/uploads/sites/2/2025/01/Joe-Savage.jpg
END:VEVENT
BEGIN:VEVENT
DTSTART;TZID=UTC:20260320T133000
DTEND;TZID=UTC:20260320T163000
DTSTAMP:20260423T181459
CREATED:20260131T192431Z
LAST-MODIFIED:20260204T191028Z
UID:10001364-1774013400-1774024200@secondrodeobrewing.com
SUMMARY:Colton Blue
DESCRIPTION:
URL:https://secondrodeobrewing.com/event/colton-blue-18/
LOCATION:Second Rodeo Brewing\, 122 E Exchange Ave\, Ft Worth\, TX\, 76164\, United States
CATEGORIES:Tunes
ATTACH;FMTTYPE=image/jpeg:https://secondrodeobrewing.com/wp-content/uploads/sites/2/2025/01/Colton-Blue-1.jpg
END:VEVENT
BEGIN:VEVENT
DTSTART;TZID=UTC:20260319T200000
DTEND;TZID=UTC:20260319T230000
DTSTAMP:20260423T181459
CREATED:20260131T192430Z
LAST-MODIFIED:20260204T190718Z
UID:10001363-1773950400-1773961200@secondrodeobrewing.com
SUMMARY:Shelby Ballenger
DESCRIPTION:
URL:https://secondrodeobrewing.com/event/shelby-ballenger-6/
LOCATION:Second Rodeo Brewing\, 122 E Exchange Ave\, Ft Worth\, TX\, 76164\, United States
CATEGORIES:Tunes
ATTACH;FMTTYPE=image/jpeg:https://secondrodeobrewing.com/wp-content/uploads/sites/2/2025/04/Shelby-B.jpeg
END:VEVENT
BEGIN:VEVENT
DTSTART;TZID=UTC:20260319T160000
DTEND;TZID=UTC:20260319T190000
DTSTAMP:20260423T181459
CREATED:20260131T192430Z
LAST-MODIFIED:20260204T190627Z
UID:10001362-1773936000-1773946800@secondrodeobrewing.com
SUMMARY:Ralyn Gayle
DESCRIPTION:
URL:https://secondrodeobrewing.com/event/ralyn-gayle-10/
LOCATION:Second Rodeo Brewing\, 122 E Exchange Ave\, Ft Worth\, TX\, 76164\, United States
CATEGORIES:Tunes
ATTACH;FMTTYPE=image/jpeg:https://secondrodeobrewing.com/wp-content/uploads/sites/2/2025/01/Ralyn-Gayle-3.jpg
END:VEVENT
BEGIN:VEVENT
DTSTART;TZID=UTC:20260319T120000
DTEND;TZID=UTC:20260319T150000
DTSTAMP:20260423T181459
CREATED:20260131T192235Z
LAST-MODIFIED:20260204T190418Z
UID:10001361-1773921600-1773932400@secondrodeobrewing.com
SUMMARY:Brett Watts
DESCRIPTION:
URL:https://secondrodeobrewing.com/event/brett-watts-8/
LOCATION:Second Rodeo Brewing\, 122 E Exchange Ave\, Ft Worth\, TX\, 76164\, United States
CATEGORIES:Tunes
ATTACH;FMTTYPE=image/jpeg:https://secondrodeobrewing.com/wp-content/uploads/sites/2/2025/01/Brett-Watts-scaled.jpg
END:VEVENT
BEGIN:VEVENT
DTSTART;TZID=UTC:20260318T200000
DTEND;TZID=UTC:20260318T230000
DTSTAMP:20260423T181459
CREATED:20260131T192234Z
LAST-MODIFIED:20260204T190324Z
UID:10001360-1773864000-1773874800@secondrodeobrewing.com
SUMMARY:Seth Van Dover
DESCRIPTION:
URL:https://secondrodeobrewing.com/event/seth-van-dover-13/
LOCATION:Second Rodeo Brewing\, 122 E Exchange Ave\, Ft Worth\, TX\, 76164\, United States
CATEGORIES:Tunes
ATTACH;FMTTYPE=image/jpeg:https://secondrodeobrewing.com/wp-content/uploads/sites/2/2025/02/Seth-Van-Dover-3.jpg
END:VEVENT
BEGIN:VEVENT
DTSTART;TZID=UTC:20260318T160000
DTEND;TZID=UTC:20260318T190000
DTSTAMP:20260423T181459
CREATED:20260131T192234Z
LAST-MODIFIED:20260204T190156Z
UID:10001359-1773849600-1773860400@secondrodeobrewing.com
SUMMARY:Jonathon Wallace
DESCRIPTION:
URL:https://secondrodeobrewing.com/event/jonathon-wallace-12/
LOCATION:Second Rodeo Brewing\, 122 E Exchange Ave\, Ft Worth\, TX\, 76164\, United States
CATEGORIES:Tunes
ATTACH;FMTTYPE=image/jpeg:https://secondrodeobrewing.com/wp-content/uploads/sites/2/2025/07/Jonathan-Wallace.jpeg
END:VEVENT
BEGIN:VEVENT
DTSTART;TZID=UTC:20260318T120000
DTEND;TZID=UTC:20260318T150000
DTSTAMP:20260423T181459
CREATED:20260131T192234Z
LAST-MODIFIED:20260204T185956Z
UID:10001358-1773835200-1773846000@secondrodeobrewing.com
SUMMARY:Taylor Ochs
DESCRIPTION:
URL:https://secondrodeobrewing.com/event/taylor-ochs-13/
LOCATION:Second Rodeo Brewing\, 122 E Exchange Ave\, Ft Worth\, TX\, 76164\, United States
CATEGORIES:Tunes
ATTACH;FMTTYPE=image/jpeg:https://secondrodeobrewing.com/wp-content/uploads/sites/2/2025/04/Taylor-Ochs-2.jpg
END:VEVENT
BEGIN:VEVENT
DTSTART;TZID=UTC:20260317T200000
DTEND;TZID=UTC:20260317T230000
DTSTAMP:20260423T181459
CREATED:20260131T192233Z
LAST-MODIFIED:20260131T192233Z
UID:10001357-1773777600-1773788400@secondrodeobrewing.com
SUMMARY:Brian Lynn Jones
DESCRIPTION:
URL:https://secondrodeobrewing.com/event/brian-lynn-jones-12/
LOCATION:Second Rodeo Brewing\, 122 E Exchange Ave\, Ft Worth\, TX\, 76164\, United States
CATEGORIES:Tunes
END:VEVENT
BEGIN:VEVENT
DTSTART;TZID=UTC:20260317T160000
DTEND;TZID=UTC:20260317T190000
DTSTAMP:20260423T181459
CREATED:20260131T192133Z
LAST-MODIFIED:20260204T185843Z
UID:10001356-1773763200-1773774000@secondrodeobrewing.com
SUMMARY:Brad Johns
DESCRIPTION:
URL:https://secondrodeobrewing.com/event/brad-johns-14/
LOCATION:Second Rodeo Brewing\, 122 E Exchange Ave\, Ft Worth\, TX\, 76164\, United States
CATEGORIES:Tunes
ATTACH;FMTTYPE=image/jpeg:https://secondrodeobrewing.com/wp-content/uploads/sites/2/2025/02/Brad-Johns.jpg
END:VEVENT
BEGIN:VEVENT
DTSTART;TZID=UTC:20260317T120000
DTEND;TZID=UTC:20260317T150000
DTSTAMP:20260423T181459
CREATED:20260131T192133Z
LAST-MODIFIED:20260204T185520Z
UID:10001355-1773748800-1773759600@secondrodeobrewing.com
SUMMARY:Kirk Holloway
DESCRIPTION:
URL:https://secondrodeobrewing.com/event/kirk-holloway-21/
LOCATION:Second Rodeo Brewing\, 122 E Exchange Ave\, Ft Worth\, TX\, 76164\, United States
CATEGORIES:Tunes
ATTACH;FMTTYPE=image/jpeg:https://secondrodeobrewing.com/wp-content/uploads/sites/2/2025/01/Kirk-Holloway-scaled.jpg
END:VEVENT
BEGIN:VEVENT
DTSTART;TZID=UTC:20260316T200000
DTEND;TZID=UTC:20260316T230000
DTSTAMP:20260423T181459
CREATED:20260131T192132Z
LAST-MODIFIED:20260204T185434Z
UID:10001354-1773691200-1773702000@secondrodeobrewing.com
SUMMARY:Cash Byers
DESCRIPTION:
URL:https://secondrodeobrewing.com/event/cash-byers-10/
LOCATION:Second Rodeo Brewing\, 122 E Exchange Ave\, Ft Worth\, TX\, 76164\, United States
CATEGORIES:Tunes
ATTACH;FMTTYPE=image/jpeg:https://secondrodeobrewing.com/wp-content/uploads/sites/2/2025/02/Cash-Byers.jpg
END:VEVENT
BEGIN:VEVENT
DTSTART;TZID=UTC:20260316T160000
DTEND;TZID=UTC:20260316T190000
DTSTAMP:20260423T181459
CREATED:20260131T192132Z
LAST-MODIFIED:20260204T185330Z
UID:10001353-1773676800-1773687600@secondrodeobrewing.com
SUMMARY:Ben Coleman
DESCRIPTION:
URL:https://secondrodeobrewing.com/event/ben-coleman-13/
LOCATION:Second Rodeo Brewing\, 122 E Exchange Ave\, Ft Worth\, TX\, 76164\, United States
CATEGORIES:Tunes
ATTACH;FMTTYPE=image/jpeg:https://secondrodeobrewing.com/wp-content/uploads/sites/2/2025/01/BenColeman2-scaled.jpeg
END:VEVENT
BEGIN:VEVENT
DTSTART;TZID=UTC:20260316T120000
DTEND;TZID=UTC:20260316T150000
DTSTAMP:20260423T181459
CREATED:20260131T192132Z
LAST-MODIFIED:20260204T185235Z
UID:10001352-1773662400-1773673200@secondrodeobrewing.com
SUMMARY:Wade Hatton
DESCRIPTION:
URL:https://secondrodeobrewing.com/event/wade-hatton-10/
LOCATION:Second Rodeo Brewing\, 122 E Exchange Ave\, Ft Worth\, TX\, 76164\, United States
CATEGORIES:Tunes
ATTACH;FMTTYPE=image/jpeg:https://secondrodeobrewing.com/wp-content/uploads/sites/2/2025/02/Wade-Hatton-scaled.jpeg
END:VEVENT
BEGIN:VEVENT
DTSTART;TZID=UTC:20260315T200000
DTEND;TZID=UTC:20260315T230000
DTSTAMP:20260423T181459
CREATED:20260131T192033Z
LAST-MODIFIED:20260204T185128Z
UID:10001351-1773604800-1773615600@secondrodeobrewing.com
SUMMARY:Billy Roberts
DESCRIPTION:
URL:https://secondrodeobrewing.com/event/billy-roberts-15/
LOCATION:Second Rodeo Brewing\, 122 E Exchange Ave\, Ft Worth\, TX\, 76164\, United States
CATEGORIES:Tunes
ATTACH;FMTTYPE=image/jpeg:https://secondrodeobrewing.com/wp-content/uploads/sites/2/2025/02/billyroberts.jpeg
END:VEVENT
BEGIN:VEVENT
DTSTART;TZID=UTC:20260315T160000
DTEND;TZID=UTC:20260315T190000
DTSTAMP:20260423T181459
CREATED:20260131T192033Z
LAST-MODIFIED:20260201T191118Z
UID:10001350-1773590400-1773601200@secondrodeobrewing.com
SUMMARY:Kayla Owens
DESCRIPTION:
URL:https://secondrodeobrewing.com/event/kayla-owens-13/
LOCATION:Second Rodeo Brewing\, 122 E Exchange Ave\, Ft Worth\, TX\, 76164\, United States
CATEGORIES:Tunes
ATTACH;FMTTYPE=image/jpeg:https://secondrodeobrewing.com/wp-content/uploads/sites/2/2025/03/KaylaOwens2-scaled.jpg
END:VEVENT
BEGIN:VEVENT
DTSTART;TZID=UTC:20260315T120000
DTEND;TZID=UTC:20260315T150000
DTSTAMP:20260423T181459
CREATED:20260131T192033Z
LAST-MODIFIED:20260201T190959Z
UID:10001349-1773576000-1773586800@secondrodeobrewing.com
SUMMARY:Justin M. Collins
DESCRIPTION:
URL:https://secondrodeobrewing.com/event/justin-m-collins-16/
LOCATION:Second Rodeo Brewing\, 122 E Exchange Ave\, Ft Worth\, TX\, 76164\, United States
CATEGORIES:Tunes
ATTACH;FMTTYPE=image/jpeg:https://secondrodeobrewing.com/wp-content/uploads/sites/2/2025/02/Justin-M-Collins.jpg
END:VEVENT
BEGIN:VEVENT
DTSTART;TZID=UTC:20260314T213000
DTEND;TZID=UTC:20260314T213000
DTSTAMP:20260423T181459
CREATED:20260131T192032Z
LAST-MODIFIED:20260201T190908Z
UID:10001348-1773523800-1773523800@secondrodeobrewing.com
SUMMARY:Justin Myers
DESCRIPTION:
URL:https://secondrodeobrewing.com/event/justin-myers-10/
LOCATION:Second Rodeo Brewing\, 122 E Exchange Ave\, Ft Worth\, TX\, 76164\, United States
CATEGORIES:Tunes
ATTACH;FMTTYPE=image/jpeg:https://secondrodeobrewing.com/wp-content/uploads/sites/2/2025/07/JustinMyers1-1.jpg
END:VEVENT
BEGIN:VEVENT
DTSTART;TZID=UTC:20260314T173000
DTEND;TZID=UTC:20260314T203000
DTSTAMP:20260423T181459
CREATED:20260131T192032Z
LAST-MODIFIED:20260201T190757Z
UID:10001347-1773509400-1773520200@secondrodeobrewing.com
SUMMARY:Troublesome Country
DESCRIPTION:
URL:https://secondrodeobrewing.com/event/troublesome-country-9/
LOCATION:Second Rodeo Brewing\, 122 E Exchange Ave\, Ft Worth\, TX\, 76164\, United States
CATEGORIES:Tunes
ATTACH;FMTTYPE=image/jpeg:https://secondrodeobrewing.com/wp-content/uploads/sites/2/2025/01/TroublesomeCounty2.jpg
END:VEVENT
END:VCALENDAR