BEGIN:VCALENDAR
VERSION:2.0
PRODID:-//Second Rodeo - ECPv6.10.1.1//NONSGML v1.0//EN
CALSCALE:GREGORIAN
METHOD:PUBLISH
X-ORIGINAL-URL:https://secondrodeobrewing.com
X-WR-CALDESC:Events for Second Rodeo
REFRESH-INTERVAL;VALUE=DURATION:PT1H
X-Robots-Tag:noindex
X-PUBLISHED-TTL:PT1H
BEGIN:VTIMEZONE
TZID:UTC
BEGIN:STANDARD
TZOFFSETFROM:+0000
TZOFFSETTO:+0000
TZNAME:UTC
DTSTART:20260101T000000
END:STANDARD
END:VTIMEZONE
BEGIN:VEVENT
DTSTART;TZID=UTC:20260513T120000
DTEND;TZID=UTC:20260513T150000
DTSTAMP:20260423T133139
CREATED:20260330T182827Z
LAST-MODIFIED:20260402T022047Z
UID:10001526-1778673600-1778684400@secondrodeobrewing.com
SUMMARY:Taylor Ochs
DESCRIPTION:
URL:https://secondrodeobrewing.com/event/taylor-ochs-16/
LOCATION:Second Rodeo Brewing\, 122 E Exchange Ave\, Ft Worth\, TX\, 76164\, United States
CATEGORIES:Tunes
ATTACH;FMTTYPE=image/jpeg:https://secondrodeobrewing.com/wp-content/uploads/sites/2/2025/04/Taylor-Ochs-2.jpg
END:VEVENT
BEGIN:VEVENT
DTSTART;TZID=UTC:20260513T160000
DTEND;TZID=UTC:20260513T190000
DTSTAMP:20260423T133139
CREATED:20260330T182828Z
LAST-MODIFIED:20260402T022127Z
UID:10001527-1778688000-1778698800@secondrodeobrewing.com
SUMMARY:Chaser Crouch
DESCRIPTION:
URL:https://secondrodeobrewing.com/event/chaser-crouch-5/
LOCATION:Second Rodeo Brewing\, 122 E Exchange Ave\, Ft Worth\, TX\, 76164\, United States
CATEGORIES:Tunes
ATTACH;FMTTYPE=image/jpeg:https://secondrodeobrewing.com/wp-content/uploads/sites/2/2025/03/ChaserCrouch1.jpg
END:VEVENT
BEGIN:VEVENT
DTSTART;TZID=UTC:20260513T200000
DTEND;TZID=UTC:20260513T230000
DTSTAMP:20260423T133139
CREATED:20260330T182828Z
LAST-MODIFIED:20260402T022202Z
UID:10001528-1778702400-1778713200@secondrodeobrewing.com
SUMMARY:Jorge Arista
DESCRIPTION:
URL:https://secondrodeobrewing.com/event/jorge-arista-12/
LOCATION:Second Rodeo Brewing\, 122 E Exchange Ave\, Ft Worth\, TX\, 76164\, United States
CATEGORIES:Tunes
ATTACH;FMTTYPE=image/jpeg:https://secondrodeobrewing.com/wp-content/uploads/sites/2/2025/02/Jorge-Arista2-scaled.jpg
END:VEVENT
BEGIN:VEVENT
DTSTART;TZID=UTC:20260514T120000
DTEND;TZID=UTC:20260514T150000
DTSTAMP:20260423T133139
CREATED:20260330T182828Z
LAST-MODIFIED:20260402T022247Z
UID:10001529-1778760000-1778770800@secondrodeobrewing.com
SUMMARY:Alex Aguilar
DESCRIPTION:
URL:https://secondrodeobrewing.com/event/alex-aguilar-19/
LOCATION:Second Rodeo Brewing\, 122 E Exchange Ave\, Ft Worth\, TX\, 76164\, United States
CATEGORIES:Tunes
ATTACH;FMTTYPE=image/jpeg:https://secondrodeobrewing.com/wp-content/uploads/sites/2/2024/11/Alex-Aguilar-3.jpg
END:VEVENT
BEGIN:VEVENT
DTSTART;TZID=UTC:20260514T160000
DTEND;TZID=UTC:20260514T190000
DTSTAMP:20260423T133139
CREATED:20260330T183028Z
LAST-MODIFIED:20260402T022629Z
UID:10001530-1778774400-1778785200@secondrodeobrewing.com
SUMMARY:Lacey Ingram
DESCRIPTION:
URL:https://secondrodeobrewing.com/event/lacey-ingram-5/
LOCATION:Second Rodeo Brewing\, 122 E Exchange Ave\, Ft Worth\, TX\, 76164\, United States
CATEGORIES:Tunes
ATTACH;FMTTYPE=image/jpeg:https://secondrodeobrewing.com/wp-content/uploads/sites/2/2025/09/Lacey-Deep-Ellum-2-scaled.jpg
END:VEVENT
BEGIN:VEVENT
DTSTART;TZID=UTC:20260514T200000
DTEND;TZID=UTC:20260514T230000
DTSTAMP:20260423T133139
CREATED:20260330T183028Z
LAST-MODIFIED:20260402T022721Z
UID:10001531-1778788800-1778799600@secondrodeobrewing.com
SUMMARY:Carson Lewis
DESCRIPTION:
URL:https://secondrodeobrewing.com/event/carson-lewis-6/
LOCATION:Second Rodeo Brewing\, 122 E Exchange Ave\, Ft Worth\, TX\, 76164\, United States
CATEGORIES:Tunes
ATTACH;FMTTYPE=image/jpeg:https://secondrodeobrewing.com/wp-content/uploads/sites/2/2025/11/Carson-Lewis-2-scaled.jpg
END:VEVENT
BEGIN:VEVENT
DTSTART;TZID=UTC:20260515T133000
DTEND;TZID=UTC:20260515T163000
DTSTAMP:20260423T133139
CREATED:20260330T183029Z
LAST-MODIFIED:20260406T195717Z
UID:10001532-1778851800-1778862600@secondrodeobrewing.com
SUMMARY:Brian Winfield
DESCRIPTION:
URL:https://secondrodeobrewing.com/event/brian-winfield-3/
LOCATION:Second Rodeo Brewing\, 122 E Exchange Ave\, Ft Worth\, TX\, 76164\, United States
CATEGORIES:Tunes
ATTACH;FMTTYPE=image/jpeg:https://secondrodeobrewing.com/wp-content/uploads/sites/2/2025/04/BrianWinfield3.jpg
END:VEVENT
BEGIN:VEVENT
DTSTART;TZID=UTC:20260515T173000
DTEND;TZID=UTC:20260515T203000
DTSTAMP:20260423T133139
CREATED:20260330T183029Z
LAST-MODIFIED:20260406T195844Z
UID:10001533-1778866200-1778877000@secondrodeobrewing.com
SUMMARY:Olivia Joy
DESCRIPTION:
URL:https://secondrodeobrewing.com/event/olivia-joy-10/
LOCATION:Second Rodeo Brewing\, 122 E Exchange Ave\, Ft Worth\, TX\, 76164\, United States
CATEGORIES:Tunes
ATTACH;FMTTYPE=image/jpeg:https://secondrodeobrewing.com/wp-content/uploads/sites/2/2025/04/Olivia-Joy-1-scaled.jpg
END:VEVENT
BEGIN:VEVENT
DTSTART;TZID=UTC:20260515T213000
DTEND;TZID=UTC:20260515T213000
DTSTAMP:20260423T133139
CREATED:20260330T183029Z
LAST-MODIFIED:20260406T200142Z
UID:10001534-1778880600-1778880600@secondrodeobrewing.com
SUMMARY:Mike Randall
DESCRIPTION:
URL:https://secondrodeobrewing.com/event/mike-randall-14/
LOCATION:Second Rodeo Brewing\, 122 E Exchange Ave\, Ft Worth\, TX\, 76164\, United States
CATEGORIES:Tunes
ATTACH;FMTTYPE=image/jpeg:https://secondrodeobrewing.com/wp-content/uploads/sites/2/2024/11/MikeRandall.jpg
END:VEVENT
BEGIN:VEVENT
DTSTART;TZID=UTC:20260516T133000
DTEND;TZID=UTC:20260516T163000
DTSTAMP:20260423T133139
CREATED:20260330T183229Z
LAST-MODIFIED:20260406T200415Z
UID:10001535-1778938200-1778949000@secondrodeobrewing.com
SUMMARY:Mel Gersek
DESCRIPTION:
URL:https://secondrodeobrewing.com/event/mel-gersek-15/
LOCATION:Second Rodeo Brewing\, 122 E Exchange Ave\, Ft Worth\, TX\, 76164\, United States
CATEGORIES:Tunes
ATTACH;FMTTYPE=image/jpeg:https://secondrodeobrewing.com/wp-content/uploads/sites/2/2025/02/Mel-Garsek-scaled.jpg
END:VEVENT
BEGIN:VEVENT
DTSTART;TZID=UTC:20260516T173000
DTEND;TZID=UTC:20260516T203000
DTSTAMP:20260423T133139
CREATED:20260330T183229Z
LAST-MODIFIED:20260406T200521Z
UID:10001536-1778952600-1778963400@secondrodeobrewing.com
SUMMARY:Preston Hall
DESCRIPTION:
URL:https://secondrodeobrewing.com/event/preston-hall-4/
LOCATION:Second Rodeo Brewing\, 122 E Exchange Ave\, Ft Worth\, TX\, 76164\, United States
CATEGORIES:Tunes
ATTACH;FMTTYPE=image/jpeg:https://secondrodeobrewing.com/wp-content/uploads/sites/2/2025/08/PrestonHall1.jpg
END:VEVENT
BEGIN:VEVENT
DTSTART;TZID=UTC:20260516T213000
DTEND;TZID=UTC:20260516T213000
DTSTAMP:20260423T133139
CREATED:20260330T183230Z
LAST-MODIFIED:20260412T202234Z
UID:10001537-1778967000-1778967000@secondrodeobrewing.com
SUMMARY:Hayden Phillips
DESCRIPTION:
URL:https://secondrodeobrewing.com/event/hayden-phillips/
LOCATION:Second Rodeo Brewing\, 122 E Exchange Ave\, Ft Worth\, TX\, 76164\, United States
CATEGORIES:Tunes
ATTACH;FMTTYPE=image/jpeg:https://secondrodeobrewing.com/wp-content/uploads/sites/2/2026/03/Hayden-Phillips-2.jpg
END:VEVENT
BEGIN:VEVENT
DTSTART;TZID=UTC:20260517T120000
DTEND;TZID=UTC:20260517T150000
DTSTAMP:20260423T133139
CREATED:20260330T183230Z
LAST-MODIFIED:20260406T200735Z
UID:10001538-1779019200-1779030000@secondrodeobrewing.com
SUMMARY:Joe Savage
DESCRIPTION:
URL:https://secondrodeobrewing.com/event/joe-savage-13/
LOCATION:Second Rodeo Brewing\, 122 E Exchange Ave\, Ft Worth\, TX\, 76164\, United States
CATEGORIES:Tunes
ATTACH;FMTTYPE=image/jpeg:https://secondrodeobrewing.com/wp-content/uploads/sites/2/2025/01/Joe-Savage.jpg
END:VEVENT
BEGIN:VEVENT
DTSTART;TZID=UTC:20260517T160000
DTEND;TZID=UTC:20260517T190000
DTSTAMP:20260423T133139
CREATED:20260330T183230Z
LAST-MODIFIED:20260406T200845Z
UID:10001539-1779033600-1779044400@secondrodeobrewing.com
SUMMARY:Hayzen Hunter
DESCRIPTION:
URL:https://secondrodeobrewing.com/event/hayzen-hunter-16/
LOCATION:Second Rodeo Brewing\, 122 E Exchange Ave\, Ft Worth\, TX\, 76164\, United States
CATEGORIES:Tunes
ATTACH;FMTTYPE=image/jpeg:https://secondrodeobrewing.com/wp-content/uploads/sites/2/2025/01/Blazen-Hayzen.jpeg
END:VEVENT
BEGIN:VEVENT
DTSTART;TZID=UTC:20260517T200000
DTEND;TZID=UTC:20260517T230000
DTSTAMP:20260423T133139
CREATED:20260330T183257Z
LAST-MODIFIED:20260409T172942Z
UID:10001540-1779048000-1779058800@secondrodeobrewing.com
SUMMARY:Shelby Ballenger
DESCRIPTION:
URL:https://secondrodeobrewing.com/event/shelby-ballenger-8/
LOCATION:Second Rodeo Brewing\, 122 E Exchange Ave\, Ft Worth\, TX\, 76164\, United States
CATEGORIES:Tunes
ATTACH;FMTTYPE=image/jpeg:https://secondrodeobrewing.com/wp-content/uploads/sites/2/2025/04/Shelby-B.jpeg
END:VEVENT
BEGIN:VEVENT
DTSTART;TZID=UTC:20260518T120000
DTEND;TZID=UTC:20260518T150000
DTSTAMP:20260423T133139
CREATED:20260330T183257Z
LAST-MODIFIED:20260409T173030Z
UID:10001541-1779105600-1779116400@secondrodeobrewing.com
SUMMARY:Seth Keiffer
DESCRIPTION:
URL:https://secondrodeobrewing.com/event/seth-keiffer-20/
LOCATION:Second Rodeo Brewing\, 122 E Exchange Ave\, Ft Worth\, TX\, 76164\, United States
CATEGORIES:Tunes
ATTACH;FMTTYPE=image/jpeg:https://secondrodeobrewing.com/wp-content/uploads/sites/2/2024/11/SethKeiffer2.jpg
END:VEVENT
BEGIN:VEVENT
DTSTART;TZID=UTC:20260518T160000
DTEND;TZID=UTC:20260518T190000
DTSTAMP:20260423T133139
CREATED:20260330T183258Z
LAST-MODIFIED:20260411T161352Z
UID:10001542-1779120000-1779130800@secondrodeobrewing.com
SUMMARY:Jimmy Martin
DESCRIPTION:
URL:https://secondrodeobrewing.com/event/jimmy-martin-19/
LOCATION:Second Rodeo Brewing\, 122 E Exchange Ave\, Ft Worth\, TX\, 76164\, United States
CATEGORIES:Tunes
ATTACH;FMTTYPE=image/jpeg:https://secondrodeobrewing.com/wp-content/uploads/sites/2/2025/01/Jimmy-Martin.jpg
END:VEVENT
BEGIN:VEVENT
DTSTART;TZID=UTC:20260518T200000
DTEND;TZID=UTC:20260518T230000
DTSTAMP:20260423T133139
CREATED:20260330T183258Z
LAST-MODIFIED:20260411T161439Z
UID:10001543-1779134400-1779145200@secondrodeobrewing.com
SUMMARY:JJ Jones
DESCRIPTION:
URL:https://secondrodeobrewing.com/event/jj-jones/
LOCATION:Second Rodeo Brewing\, 122 E Exchange Ave\, Ft Worth\, TX\, 76164\, United States
CATEGORIES:Tunes
ATTACH;FMTTYPE=image/jpeg:https://secondrodeobrewing.com/wp-content/uploads/sites/2/2025/02/JJ-Jones.jpg
END:VEVENT
BEGIN:VEVENT
DTSTART;TZID=UTC:20260519T120000
DTEND;TZID=UTC:20260519T150000
DTSTAMP:20260423T133139
CREATED:20260330T183258Z
LAST-MODIFIED:20260411T161519Z
UID:10001544-1779192000-1779202800@secondrodeobrewing.com
SUMMARY:Jason Steinsultz
DESCRIPTION:
URL:https://secondrodeobrewing.com/event/jason-steinsultz-9/
LOCATION:Second Rodeo Brewing\, 122 E Exchange Ave\, Ft Worth\, TX\, 76164\, United States
CATEGORIES:Tunes
ATTACH;FMTTYPE=image/jpeg:https://secondrodeobrewing.com/wp-content/uploads/sites/2/2025/07/JasonSteinsultz1.jpg
END:VEVENT
BEGIN:VEVENT
DTSTART;TZID=UTC:20260519T160000
DTEND;TZID=UTC:20260519T190000
DTSTAMP:20260423T133139
CREATED:20260330T183308Z
LAST-MODIFIED:20260411T161638Z
UID:10001545-1779206400-1779217200@secondrodeobrewing.com
SUMMARY:John Dennie
DESCRIPTION:
URL:https://secondrodeobrewing.com/event/john-dennie-4/
LOCATION:Second Rodeo Brewing\, 122 E Exchange Ave\, Ft Worth\, TX\, 76164\, United States
CATEGORIES:Tunes
ATTACH;FMTTYPE=image/jpeg:https://secondrodeobrewing.com/wp-content/uploads/sites/2/2025/07/john_pops_dennie_hires-scaled-1.jpg
END:VEVENT
BEGIN:VEVENT
DTSTART;TZID=UTC:20260519T200000
DTEND;TZID=UTC:20260519T230000
DTSTAMP:20260423T133139
CREATED:20260330T183308Z
LAST-MODIFIED:20260411T161717Z
UID:10001546-1779220800-1779231600@secondrodeobrewing.com
SUMMARY:Mathew Walton
DESCRIPTION:
URL:https://secondrodeobrewing.com/event/mathew-walton-4/
LOCATION:Second Rodeo Brewing\, 122 E Exchange Ave\, Ft Worth\, TX\, 76164\, United States
CATEGORIES:Tunes
ATTACH;FMTTYPE=image/jpeg:https://secondrodeobrewing.com/wp-content/uploads/sites/2/2025/07/MatthewWalton2-scaled-1.jpg
END:VEVENT
BEGIN:VEVENT
DTSTART;TZID=UTC:20260520T120000
DTEND;TZID=UTC:20260520T150000
DTSTAMP:20260423T133139
CREATED:20260330T183309Z
LAST-MODIFIED:20260411T161817Z
UID:10001547-1779278400-1779289200@secondrodeobrewing.com
SUMMARY:Kayla Owens
DESCRIPTION:
URL:https://secondrodeobrewing.com/event/kayla-owens-16/
LOCATION:Second Rodeo Brewing\, 122 E Exchange Ave\, Ft Worth\, TX\, 76164\, United States
CATEGORIES:Tunes
ATTACH;FMTTYPE=image/jpeg:https://secondrodeobrewing.com/wp-content/uploads/sites/2/2025/03/KaylaOwens2-scaled.jpg
END:VEVENT
BEGIN:VEVENT
DTSTART;TZID=UTC:20260520T160000
DTEND;TZID=UTC:20260520T190000
DTSTAMP:20260423T133139
CREATED:20260330T183309Z
LAST-MODIFIED:20260411T161900Z
UID:10001548-1779292800-1779303600@secondrodeobrewing.com
SUMMARY:Carissa Carter
DESCRIPTION:
URL:https://secondrodeobrewing.com/event/carissa-carter-7/
LOCATION:Second Rodeo Brewing\, 122 E Exchange Ave\, Ft Worth\, TX\, 76164\, United States
CATEGORIES:Tunes
ATTACH;FMTTYPE=image/jpeg:https://secondrodeobrewing.com/wp-content/uploads/sites/2/2025/09/Carissa-Carter-2.jpg
END:VEVENT
BEGIN:VEVENT
DTSTART;TZID=UTC:20260520T200000
DTEND;TZID=UTC:20260520T230000
DTSTAMP:20260423T133139
CREATED:20260330T183310Z
LAST-MODIFIED:20260411T162018Z
UID:10001549-1779307200-1779318000@secondrodeobrewing.com
SUMMARY:Todd Stewart
DESCRIPTION:
URL:https://secondrodeobrewing.com/event/todd-stewart-11/
LOCATION:Second Rodeo Brewing\, 122 E Exchange Ave\, Ft Worth\, TX\, 76164\, United States
CATEGORIES:Tunes
ATTACH;FMTTYPE=image/jpeg:https://secondrodeobrewing.com/wp-content/uploads/sites/2/2025/02/Todd-Stewart2.jpg
END:VEVENT
BEGIN:VEVENT
DTSTART;TZID=UTC:20260521T120000
DTEND;TZID=UTC:20260521T150000
DTSTAMP:20260423T133139
CREATED:20260330T183417Z
LAST-MODIFIED:20260411T162049Z
UID:10001550-1779364800-1779375600@secondrodeobrewing.com
SUMMARY:Joshua Ingram
DESCRIPTION:
URL:https://secondrodeobrewing.com/event/joshua-ingram-7/
LOCATION:Second Rodeo Brewing\, 122 E Exchange Ave\, Ft Worth\, TX\, 76164\, United States
CATEGORIES:Tunes
ATTACH;FMTTYPE=image/jpeg:https://secondrodeobrewing.com/wp-content/uploads/sites/2/2025/01/JoshuaIngram1.jpg
END:VEVENT
BEGIN:VEVENT
DTSTART;TZID=UTC:20260521T160000
DTEND;TZID=UTC:20260521T190000
DTSTAMP:20260423T133139
CREATED:20260330T183417Z
LAST-MODIFIED:20260411T162127Z
UID:10001551-1779379200-1779390000@secondrodeobrewing.com
SUMMARY:Brian Lynn Jones
DESCRIPTION:
URL:https://secondrodeobrewing.com/event/brian-lynn-jones-16/
LOCATION:Second Rodeo Brewing\, 122 E Exchange Ave\, Ft Worth\, TX\, 76164\, United States
CATEGORIES:Tunes
ATTACH;FMTTYPE=image/jpeg:https://secondrodeobrewing.com/wp-content/uploads/sites/2/2025/07/Brian-Lynn-Jones.jpeg
END:VEVENT
BEGIN:VEVENT
DTSTART;TZID=UTC:20260521T200000
DTEND;TZID=UTC:20260521T230000
DTSTAMP:20260423T133139
CREATED:20260330T183418Z
LAST-MODIFIED:20260411T162216Z
UID:10001552-1779393600-1779404400@secondrodeobrewing.com
SUMMARY:Tommy Luke
DESCRIPTION:
URL:https://secondrodeobrewing.com/event/tommy-luke/
LOCATION:Second Rodeo Brewing\, 122 E Exchange Ave\, Ft Worth\, TX\, 76164\, United States
CATEGORIES:Tunes
ATTACH;FMTTYPE=image/jpeg:https://secondrodeobrewing.com/wp-content/uploads/sites/2/2026/02/Tommy-Luke2-scaled.jpg
END:VEVENT
BEGIN:VEVENT
DTSTART;TZID=UTC:20260522T133000
DTEND;TZID=UTC:20260522T163000
DTSTAMP:20260423T133139
CREATED:20260330T183418Z
LAST-MODIFIED:20260413T175305Z
UID:10001553-1779456600-1779467400@secondrodeobrewing.com
SUMMARY:Joshua McDade
DESCRIPTION:
URL:https://secondrodeobrewing.com/event/joshua-mcdade/
LOCATION:Second Rodeo Brewing\, 122 E Exchange Ave\, Ft Worth\, TX\, 76164\, United States
CATEGORIES:Tunes
ATTACH;FMTTYPE=image/jpeg:https://secondrodeobrewing.com/wp-content/uploads/sites/2/2026/03/JoshMcDade3.jpg
END:VEVENT
BEGIN:VEVENT
DTSTART;TZID=UTC:20260522T173000
DTEND;TZID=UTC:20260522T203000
DTSTAMP:20260423T133139
CREATED:20260330T183419Z
LAST-MODIFIED:20260411T162314Z
UID:10001554-1779471000-1779481800@secondrodeobrewing.com
SUMMARY:Troublesome Country
DESCRIPTION:
URL:https://secondrodeobrewing.com/event/troublesome-country-12/
LOCATION:Second Rodeo Brewing\, 122 E Exchange Ave\, Ft Worth\, TX\, 76164\, United States
CATEGORIES:Tunes
ATTACH;FMTTYPE=image/jpeg:https://secondrodeobrewing.com/wp-content/uploads/sites/2/2025/01/TroublesomeCounty2.jpg
END:VEVENT
BEGIN:VEVENT
DTSTART;TZID=UTC:20260522T213000
DTEND;TZID=UTC:20260522T213000
DTSTAMP:20260423T133139
CREATED:20260330T183508Z
LAST-MODIFIED:20260411T162345Z
UID:10001555-1779485400-1779485400@secondrodeobrewing.com
SUMMARY:Kyle Redd
DESCRIPTION:
URL:https://secondrodeobrewing.com/event/kyle-redd-10/
LOCATION:Second Rodeo Brewing\, 122 E Exchange Ave\, Ft Worth\, TX\, 76164\, United States
CATEGORIES:Tunes
ATTACH;FMTTYPE=image/jpeg:https://secondrodeobrewing.com/wp-content/uploads/sites/2/2024/11/Kyle-Redd-2.jpeg
END:VEVENT
END:VCALENDAR