BEGIN:VCALENDAR
VERSION:2.0
PRODID:-//Second Rodeo - ECPv6.10.1.1//NONSGML v1.0//EN
CALSCALE:GREGORIAN
METHOD:PUBLISH
X-ORIGINAL-URL:https://secondrodeobrewing.com
X-WR-CALDESC:Events for Second Rodeo
REFRESH-INTERVAL;VALUE=DURATION:PT1H
X-Robots-Tag:noindex
X-PUBLISHED-TTL:PT1H
BEGIN:VTIMEZONE
TZID:UTC
BEGIN:STANDARD
TZOFFSETFROM:+0000
TZOFFSETTO:+0000
TZNAME:UTC
DTSTART:20260101T000000
END:STANDARD
END:VTIMEZONE
BEGIN:VEVENT
DTSTART;TZID=UTC:20260422T200000
DTEND;TZID=UTC:20260422T230000
DTSTAMP:20260423T133156
CREATED:20260214T205013Z
LAST-MODIFIED:20260313T194718Z
UID:10001465-1776888000-1776898800@secondrodeobrewing.com
SUMMARY:Kyle Redd
DESCRIPTION:
URL:https://secondrodeobrewing.com/event/kyle-redd-9/
LOCATION:Second Rodeo Brewing\, 122 E Exchange Ave\, Ft Worth\, TX\, 76164\, United States
CATEGORIES:Tunes
ATTACH;FMTTYPE=image/jpeg:https://secondrodeobrewing.com/wp-content/uploads/sites/2/2024/11/Kyle-Redd-2.jpeg
END:VEVENT
BEGIN:VEVENT
DTSTART;TZID=UTC:20260422T160000
DTEND;TZID=UTC:20260422T190000
DTSTAMP:20260423T133156
CREATED:20260214T204915Z
LAST-MODIFIED:20260420T174338Z
UID:10001464-1776873600-1776884400@secondrodeobrewing.com
SUMMARY:Sarah Schafer
DESCRIPTION:
URL:https://secondrodeobrewing.com/event/rob-redwine-13/
LOCATION:Second Rodeo Brewing\, 122 E Exchange Ave\, Ft Worth\, TX\, 76164\, United States
CATEGORIES:Tunes
ATTACH;FMTTYPE=image/jpeg:https://secondrodeobrewing.com/wp-content/uploads/sites/2/2025/02/sarah-schafer.jpg
END:VEVENT
BEGIN:VEVENT
DTSTART;TZID=UTC:20260422T120000
DTEND;TZID=UTC:20260422T150000
DTSTAMP:20260423T133156
CREATED:20260214T204915Z
LAST-MODIFIED:20260313T194603Z
UID:10001463-1776859200-1776870000@secondrodeobrewing.com
SUMMARY:Lacey Ingram
DESCRIPTION:
URL:https://secondrodeobrewing.com/event/lacey-ingram-3/
LOCATION:Second Rodeo Brewing\, 122 E Exchange Ave\, Ft Worth\, TX\, 76164\, United States
CATEGORIES:Tunes
ATTACH;FMTTYPE=image/jpeg:https://secondrodeobrewing.com/wp-content/uploads/sites/2/2025/09/Lacey-Deep-Ellum-2-scaled.jpg
END:VEVENT
BEGIN:VEVENT
DTSTART;TZID=UTC:20260421T200000
DTEND;TZID=UTC:20260421T230000
DTSTAMP:20260423T133156
CREATED:20260214T204914Z
LAST-MODIFIED:20260328T191523Z
UID:10001462-1776801600-1776812400@secondrodeobrewing.com
SUMMARY:None
DESCRIPTION:
URL:https://secondrodeobrewing.com/event/mitchell-ford-14/
LOCATION:Second Rodeo Brewing\, 122 E Exchange Ave\, Ft Worth\, TX\, 76164\, United States
CATEGORIES:Tunes
ATTACH;FMTTYPE=image/png:https://secondrodeobrewing.com/wp-content/uploads/sites/2/2025/01/cropped-web-app-manifest-512x512-v2.png
END:VEVENT
BEGIN:VEVENT
DTSTART;TZID=UTC:20260421T160000
DTEND;TZID=UTC:20260421T190000
DTSTAMP:20260423T133156
CREATED:20260214T204914Z
LAST-MODIFIED:20260328T191429Z
UID:10001461-1776787200-1776798000@secondrodeobrewing.com
SUMMARY:None
DESCRIPTION:
URL:https://secondrodeobrewing.com/event/hayzen-hunter-15/
LOCATION:Second Rodeo Brewing\, 122 E Exchange Ave\, Ft Worth\, TX\, 76164\, United States
CATEGORIES:Tunes
ATTACH;FMTTYPE=image/png:https://secondrodeobrewing.com/wp-content/uploads/sites/2/2025/01/cropped-web-app-manifest-512x512-v2.png
END:VEVENT
BEGIN:VEVENT
DTSTART;TZID=UTC:20260421T120000
DTEND;TZID=UTC:20260421T150000
DTSTAMP:20260423T133156
CREATED:20260214T204913Z
LAST-MODIFIED:20260420T174203Z
UID:10001460-1776772800-1776783600@secondrodeobrewing.com
SUMMARY:Taylor Ochs
DESCRIPTION:
URL:https://secondrodeobrewing.com/event/todd-stewart-10/
LOCATION:Second Rodeo Brewing\, 122 E Exchange Ave\, Ft Worth\, TX\, 76164\, United States
CATEGORIES:Tunes
ATTACH;FMTTYPE=image/jpeg:https://secondrodeobrewing.com/wp-content/uploads/sites/2/2025/04/Taylor-Ochs-2.jpg
END:VEVENT
BEGIN:VEVENT
DTSTART;TZID=UTC:20260420T200000
DTEND;TZID=UTC:20260420T230000
DTSTAMP:20260423T133156
CREATED:20260214T204816Z
LAST-MODIFIED:20260313T172940Z
UID:10001459-1776715200-1776726000@secondrodeobrewing.com
SUMMARY:Brad Johns
DESCRIPTION:
URL:https://secondrodeobrewing.com/event/brad-johns-16/
LOCATION:Second Rodeo Brewing\, 122 E Exchange Ave\, Ft Worth\, TX\, 76164\, United States
CATEGORIES:Tunes
ATTACH;FMTTYPE=image/jpeg:https://secondrodeobrewing.com/wp-content/uploads/sites/2/2025/02/Brad-Johns.jpg
END:VEVENT
BEGIN:VEVENT
DTSTART;TZID=UTC:20260420T160000
DTEND;TZID=UTC:20260420T190000
DTSTAMP:20260423T133156
CREATED:20260214T204815Z
LAST-MODIFIED:20260313T172831Z
UID:10001458-1776700800-1776711600@secondrodeobrewing.com
SUMMARY:Matthew Walton
DESCRIPTION:
URL:https://secondrodeobrewing.com/event/matthew-walton-6/
LOCATION:Second Rodeo Brewing\, 122 E Exchange Ave\, Ft Worth\, TX\, 76164\, United States
CATEGORIES:Tunes
ATTACH;FMTTYPE=image/jpeg:https://secondrodeobrewing.com/wp-content/uploads/sites/2/2025/07/MatthewWalton2-scaled-1.jpg
END:VEVENT
BEGIN:VEVENT
DTSTART;TZID=UTC:20260420T120000
DTEND;TZID=UTC:20260420T150000
DTSTAMP:20260423T133156
CREATED:20260214T204814Z
LAST-MODIFIED:20260313T172738Z
UID:10001457-1776686400-1776697200@secondrodeobrewing.com
SUMMARY:Jorge Arista
DESCRIPTION:
URL:https://secondrodeobrewing.com/event/jorge-arista-11/
LOCATION:Second Rodeo Brewing\, 122 E Exchange Ave\, Ft Worth\, TX\, 76164\, United States
CATEGORIES:Tunes
ATTACH;FMTTYPE=image/jpeg:https://secondrodeobrewing.com/wp-content/uploads/sites/2/2025/02/Jorge-Arista2-scaled.jpg
END:VEVENT
BEGIN:VEVENT
DTSTART;TZID=UTC:20260419T200000
DTEND;TZID=UTC:20260419T230000
DTSTAMP:20260423T133156
CREATED:20260214T204814Z
LAST-MODIFIED:20260313T172646Z
UID:10001456-1776628800-1776639600@secondrodeobrewing.com
SUMMARY:Colton Blue
DESCRIPTION:
URL:https://secondrodeobrewing.com/event/colton-blue-20/
LOCATION:Second Rodeo Brewing\, 122 E Exchange Ave\, Ft Worth\, TX\, 76164\, United States
CATEGORIES:Tunes
ATTACH;FMTTYPE=image/jpeg:https://secondrodeobrewing.com/wp-content/uploads/sites/2/2025/01/Colton-Blue-1.jpg
END:VEVENT
BEGIN:VEVENT
DTSTART;TZID=UTC:20260419T160000
DTEND;TZID=UTC:20260419T190000
DTSTAMP:20260423T133156
CREATED:20260214T204813Z
LAST-MODIFIED:20260413T175624Z
UID:10001455-1776614400-1776625200@secondrodeobrewing.com
SUMMARY:Carissa Carter
DESCRIPTION:
URL:https://secondrodeobrewing.com/event/taylor-lewis-8/
LOCATION:Second Rodeo Brewing\, 122 E Exchange Ave\, Ft Worth\, TX\, 76164\, United States
CATEGORIES:Tunes
ATTACH;FMTTYPE=image/jpeg:https://secondrodeobrewing.com/wp-content/uploads/sites/2/2025/09/Carissa-Carter-2.jpg
END:VEVENT
BEGIN:VEVENT
DTSTART;TZID=UTC:20260419T120000
DTEND;TZID=UTC:20260419T150000
DTSTAMP:20260423T133156
CREATED:20260214T204714Z
LAST-MODIFIED:20260313T172522Z
UID:10001454-1776600000-1776610800@secondrodeobrewing.com
SUMMARY:William Johnson
DESCRIPTION:
URL:https://secondrodeobrewing.com/event/william-johnson-7/
LOCATION:Second Rodeo Brewing\, 122 E Exchange Ave\, Ft Worth\, TX\, 76164\, United States
CATEGORIES:Tunes
ATTACH;FMTTYPE=image/jpeg:https://secondrodeobrewing.com/wp-content/uploads/sites/2/2025/08/William-Johnson-2.jpg
END:VEVENT
BEGIN:VEVENT
DTSTART;TZID=UTC:20260418T213000
DTEND;TZID=UTC:20260418T213000
DTSTAMP:20260423T133156
CREATED:20260214T204714Z
LAST-MODIFIED:20260313T172425Z
UID:10001453-1776547800-1776547800@secondrodeobrewing.com
SUMMARY:Jimmy Martin
DESCRIPTION:
URL:https://secondrodeobrewing.com/event/jimmy-martin-17/
LOCATION:Second Rodeo Brewing\, 122 E Exchange Ave\, Ft Worth\, TX\, 76164\, United States
CATEGORIES:Tunes
ATTACH;FMTTYPE=image/jpeg:https://secondrodeobrewing.com/wp-content/uploads/sites/2/2025/01/Jimmy-Martin.jpg
END:VEVENT
BEGIN:VEVENT
DTSTART;TZID=UTC:20260418T173000
DTEND;TZID=UTC:20260418T203000
DTSTAMP:20260423T133156
CREATED:20260214T204714Z
LAST-MODIFIED:20260413T175517Z
UID:10001452-1776533400-1776544200@secondrodeobrewing.com
SUMMARY:Justin Russell Band
DESCRIPTION:
URL:https://secondrodeobrewing.com/event/olivia-joy-9/
LOCATION:Second Rodeo Brewing\, 122 E Exchange Ave\, Ft Worth\, TX\, 76164\, United States
CATEGORIES:Tunes
ATTACH;FMTTYPE=image/jpeg:https://secondrodeobrewing.com/wp-content/uploads/sites/2/2025/07/Justin-Russell-scaled-1.jpg
END:VEVENT
BEGIN:VEVENT
DTSTART;TZID=UTC:20260418T133000
DTEND;TZID=UTC:20260418T163000
DTSTAMP:20260423T133156
CREATED:20260214T204713Z
LAST-MODIFIED:20260313T172232Z
UID:10001451-1776519000-1776529800@secondrodeobrewing.com
SUMMARY:Mel Gersek
DESCRIPTION:
URL:https://secondrodeobrewing.com/event/mel-gersek-12/
LOCATION:Second Rodeo Brewing\, 122 E Exchange Ave\, Ft Worth\, TX\, 76164\, United States
CATEGORIES:Tunes
ATTACH;FMTTYPE=image/jpeg:https://secondrodeobrewing.com/wp-content/uploads/sites/2/2025/02/Mel-Garsek-scaled.jpg
END:VEVENT
BEGIN:VEVENT
DTSTART;TZID=UTC:20260417T213000
DTEND;TZID=UTC:20260417T213000
DTSTAMP:20260423T133156
CREATED:20260214T204713Z
LAST-MODIFIED:20260313T172113Z
UID:10001450-1776461400-1776461400@secondrodeobrewing.com
SUMMARY:The Party Crowd
DESCRIPTION:
URL:https://secondrodeobrewing.com/event/the-party-crowd-3/
LOCATION:Second Rodeo Brewing\, 122 E Exchange Ave\, Ft Worth\, TX\, 76164\, United States
CATEGORIES:Tunes
ATTACH;FMTTYPE=image/jpeg:https://secondrodeobrewing.com/wp-content/uploads/sites/2/2025/03/ThePartyCrowd2.jpg
END:VEVENT
BEGIN:VEVENT
DTSTART;TZID=UTC:20260417T173000
DTEND;TZID=UTC:20260417T203000
DTSTAMP:20260423T133156
CREATED:20260214T204618Z
LAST-MODIFIED:20260313T172032Z
UID:10001449-1776447000-1776457800@secondrodeobrewing.com
SUMMARY:Broke String Burnett
DESCRIPTION:
URL:https://secondrodeobrewing.com/event/broke-string-burnett-6/
LOCATION:Second Rodeo Brewing\, 122 E Exchange Ave\, Ft Worth\, TX\, 76164\, United States
CATEGORIES:Tunes
ATTACH;FMTTYPE=image/jpeg:https://secondrodeobrewing.com/wp-content/uploads/sites/2/2025/04/BrokeStringBurnett1.jpg
END:VEVENT
BEGIN:VEVENT
DTSTART;TZID=UTC:20260417T133000
DTEND;TZID=UTC:20260417T163000
DTSTAMP:20260423T133156
CREATED:20260214T204618Z
LAST-MODIFIED:20260313T171951Z
UID:10001448-1776432600-1776443400@secondrodeobrewing.com
SUMMARY:Carson Lewis
DESCRIPTION:
URL:https://secondrodeobrewing.com/event/carson-lewis-5/
LOCATION:Second Rodeo Brewing\, 122 E Exchange Ave\, Ft Worth\, TX\, 76164\, United States
CATEGORIES:Tunes
ATTACH;FMTTYPE=image/jpeg:https://secondrodeobrewing.com/wp-content/uploads/sites/2/2025/11/Carson-Lewis-2-scaled.jpg
END:VEVENT
BEGIN:VEVENT
DTSTART;TZID=UTC:20260416T200000
DTEND;TZID=UTC:20260416T230000
DTSTAMP:20260423T133156
CREATED:20260214T204617Z
LAST-MODIFIED:20260313T171915Z
UID:10001447-1776369600-1776380400@secondrodeobrewing.com
SUMMARY:Copperhead Jones
DESCRIPTION:
URL:https://secondrodeobrewing.com/event/copperhead-jones-4/
LOCATION:Second Rodeo Brewing\, 122 E Exchange Ave\, Ft Worth\, TX\, 76164\, United States
CATEGORIES:Tunes
ATTACH;FMTTYPE=image/jpeg:https://secondrodeobrewing.com/wp-content/uploads/sites/2/2025/02/Copperhead-Jones.jpg
END:VEVENT
BEGIN:VEVENT
DTSTART;TZID=UTC:20260416T160000
DTEND;TZID=UTC:20260416T190000
DTSTAMP:20260423T133156
CREATED:20260214T204617Z
LAST-MODIFIED:20260313T171836Z
UID:10001446-1776355200-1776366000@secondrodeobrewing.com
SUMMARY:Steve Obermiller
DESCRIPTION:
URL:https://secondrodeobrewing.com/event/steve-obermiller-7/
LOCATION:Second Rodeo Brewing\, 122 E Exchange Ave\, Ft Worth\, TX\, 76164\, United States
CATEGORIES:Tunes
ATTACH;FMTTYPE=image/jpeg:https://secondrodeobrewing.com/wp-content/uploads/sites/2/2025/02/Steve-Obermiller_CIC-scaled.jpg
END:VEVENT
BEGIN:VEVENT
DTSTART;TZID=UTC:20260416T120000
DTEND;TZID=UTC:20260416T150000
DTSTAMP:20260423T133156
CREATED:20260214T204616Z
LAST-MODIFIED:20260314T191800Z
UID:10001445-1776340800-1776351600@secondrodeobrewing.com
SUMMARY:Billy Roberts
DESCRIPTION:
URL:https://secondrodeobrewing.com/event/none-45/
LOCATION:Second Rodeo Brewing\, 122 E Exchange Ave\, Ft Worth\, TX\, 76164\, United States
CATEGORIES:Tunes
ATTACH;FMTTYPE=image/jpeg:https://secondrodeobrewing.com/wp-content/uploads/sites/2/2025/02/billyroberts.jpeg
END:VEVENT
BEGIN:VEVENT
DTSTART;TZID=UTC:20260415T200000
DTEND;TZID=UTC:20260415T230000
DTSTAMP:20260423T133156
CREATED:20260214T204515Z
LAST-MODIFIED:20260314T191704Z
UID:10001444-1776283200-1776294000@secondrodeobrewing.com
SUMMARY:Justin Myers
DESCRIPTION:
URL:https://secondrodeobrewing.com/event/none-44/
LOCATION:Second Rodeo Brewing\, 122 E Exchange Ave\, Ft Worth\, TX\, 76164\, United States
CATEGORIES:Tunes
ATTACH;FMTTYPE=image/jpeg:https://secondrodeobrewing.com/wp-content/uploads/sites/2/2025/07/JustinMyers1.jpg
END:VEVENT
BEGIN:VEVENT
DTSTART;TZID=UTC:20260415T160000
DTEND;TZID=UTC:20260415T190000
DTSTAMP:20260423T133156
CREATED:20260214T204515Z
LAST-MODIFIED:20260313T171718Z
UID:10001443-1776268800-1776279600@secondrodeobrewing.com
SUMMARY:Brett Watts
DESCRIPTION:
URL:https://secondrodeobrewing.com/event/brett-watts-9/
LOCATION:Second Rodeo Brewing\, 122 E Exchange Ave\, Ft Worth\, TX\, 76164\, United States
CATEGORIES:Tunes
ATTACH;FMTTYPE=image/jpeg:https://secondrodeobrewing.com/wp-content/uploads/sites/2/2025/01/Brett-Watts-scaled.jpg
END:VEVENT
BEGIN:VEVENT
DTSTART;TZID=UTC:20260415T120000
DTEND;TZID=UTC:20260415T150000
DTSTAMP:20260423T133156
CREATED:20260214T204514Z
LAST-MODIFIED:20260302T185316Z
UID:10001442-1776254400-1776265200@secondrodeobrewing.com
SUMMARY:Cash Byers
DESCRIPTION:
URL:https://secondrodeobrewing.com/event/cash-byers-11/
LOCATION:Second Rodeo Brewing\, 122 E Exchange Ave\, Ft Worth\, TX\, 76164\, United States
CATEGORIES:Tunes
ATTACH;FMTTYPE=image/jpeg:https://secondrodeobrewing.com/wp-content/uploads/sites/2/2025/02/Cash-Byers.jpg
END:VEVENT
BEGIN:VEVENT
DTSTART;TZID=UTC:20260414T200000
DTEND;TZID=UTC:20260414T230000
DTSTAMP:20260423T133156
CREATED:20260214T204513Z
LAST-MODIFIED:20260228T205220Z
UID:10001441-1776196800-1776207600@secondrodeobrewing.com
SUMMARY:Pennsylvania Slim
DESCRIPTION:
URL:https://secondrodeobrewing.com/event/pennsylvania-slim-16/
LOCATION:Second Rodeo Brewing\, 122 E Exchange Ave\, Ft Worth\, TX\, 76164\, United States
CATEGORIES:Tunes
ATTACH;FMTTYPE=image/jpeg:https://secondrodeobrewing.com/wp-content/uploads/sites/2/2025/01/PennSlim1.jpg
END:VEVENT
BEGIN:VEVENT
DTSTART;TZID=UTC:20260414T160000
DTEND;TZID=UTC:20260414T190000
DTSTAMP:20260423T133156
CREATED:20260214T204513Z
LAST-MODIFIED:20260228T205117Z
UID:10001440-1776182400-1776193200@secondrodeobrewing.com
SUMMARY:Justin M. Collins
DESCRIPTION:
URL:https://secondrodeobrewing.com/event/justin-m-collins-17/
LOCATION:Second Rodeo Brewing\, 122 E Exchange Ave\, Ft Worth\, TX\, 76164\, United States
CATEGORIES:Tunes
ATTACH;FMTTYPE=image/jpeg:https://secondrodeobrewing.com/wp-content/uploads/sites/2/2025/07/Justin-M-Collins.jpg
END:VEVENT
BEGIN:VEVENT
DTSTART;TZID=UTC:20260414T120000
DTEND;TZID=UTC:20260414T150000
DTSTAMP:20260423T133156
CREATED:20260214T204416Z
LAST-MODIFIED:20260228T205028Z
UID:10001439-1776168000-1776178800@secondrodeobrewing.com
SUMMARY:Kirk Holloway
DESCRIPTION:
URL:https://secondrodeobrewing.com/event/kirk-holloway-23/
LOCATION:Second Rodeo Brewing\, 122 E Exchange Ave\, Ft Worth\, TX\, 76164\, United States
CATEGORIES:Tunes
ATTACH;FMTTYPE=image/jpeg:https://secondrodeobrewing.com/wp-content/uploads/sites/2/2025/01/Kirk-Holloway-scaled.jpg
END:VEVENT
BEGIN:VEVENT
DTSTART;TZID=UTC:20260413T200000
DTEND;TZID=UTC:20260413T230000
DTSTAMP:20260423T133156
CREATED:20260214T204415Z
LAST-MODIFIED:20260228T204541Z
UID:10001438-1776110400-1776121200@secondrodeobrewing.com
SUMMARY:Troy Allen
DESCRIPTION:
URL:https://secondrodeobrewing.com/event/troy-allen-15/
LOCATION:Second Rodeo Brewing\, 122 E Exchange Ave\, Ft Worth\, TX\, 76164\, United States
CATEGORIES:Tunes
ATTACH;FMTTYPE=image/jpeg:https://secondrodeobrewing.com/wp-content/uploads/sites/2/2025/07/Troy-Allen-3.jpg
END:VEVENT
BEGIN:VEVENT
DTSTART;TZID=UTC:20260413T160000
DTEND;TZID=UTC:20260413T190000
DTSTAMP:20260423T133156
CREATED:20260214T204415Z
LAST-MODIFIED:20260228T204448Z
UID:10001437-1776096000-1776106800@secondrodeobrewing.com
SUMMARY:Brian Lynn Jones
DESCRIPTION:
URL:https://secondrodeobrewing.com/event/brian-lynn-jones-13/
LOCATION:Second Rodeo Brewing\, 122 E Exchange Ave\, Ft Worth\, TX\, 76164\, United States
CATEGORIES:Tunes
ATTACH;FMTTYPE=image/jpeg:https://secondrodeobrewing.com/wp-content/uploads/sites/2/2025/01/Brian-Lynn-Jones.jpeg
END:VEVENT
BEGIN:VEVENT
DTSTART;TZID=UTC:20260413T120000
DTEND;TZID=UTC:20260413T150000
DTSTAMP:20260423T133156
CREATED:20260214T204414Z
LAST-MODIFIED:20260228T204338Z
UID:10001436-1776081600-1776092400@secondrodeobrewing.com
SUMMARY:Joseph Neville
DESCRIPTION:
URL:https://secondrodeobrewing.com/event/joseph-neville-7/
LOCATION:Second Rodeo Brewing\, 122 E Exchange Ave\, Ft Worth\, TX\, 76164\, United States
CATEGORIES:Tunes
ATTACH;FMTTYPE=image/jpeg:https://secondrodeobrewing.com/wp-content/uploads/sites/2/2025/08/Joseph-Neville.jpg
END:VEVENT
END:VCALENDAR